BEGIN:VCALENDAR
VERSION:2.0
PRODID:-//新極真会 愛知中央支部 西道場・名東道場 - ECPv6.15.20//NONSGML v1.0//EN
CALSCALE:GREGORIAN
METHOD:PUBLISH
X-ORIGINAL-URL:https://shinkyokushin-gouken.com
X-WR-CALDESC:新極真会 愛知中央支部 西道場・名東道場 のイベント
REFRESH-INTERVAL;VALUE=DURATION:PT1H
X-Robots-Tag:noindex
X-PUBLISHED-TTL:PT1H
BEGIN:VTIMEZONE
TZID:Asia/Tokyo
BEGIN:STANDARD
TZOFFSETFROM:+0900
TZOFFSETTO:+0900
TZNAME:JST
DTSTART:20250101T000000
END:STANDARD
END:VTIMEZONE
BEGIN:VEVENT
DTSTART;VALUE=DATE:20260524
DTEND;VALUE=DATE:20260525
DTSTAMP:20260419T223543
CREATED:20260405T031253Z
LAST-MODIFIED:20260405T031253Z
UID:2717-1779580800-1779667199@shinkyokushin-gouken.com
SUMMARY:第32回長野県大会
DESCRIPTION:
URL:https://shinkyokushin-gouken.com/event/%e7%ac%ac32%e5%9b%9e%e9%95%b7%e9%87%8e%e7%9c%8c%e5%a4%a7%e4%bc%9a/
LOCATION:松本市総合体育館\, 美須々５−１\, 松本市\, 長野県\, 日本
END:VEVENT
BEGIN:VEVENT
DTSTART;VALUE=DATE:20260530
DTEND;VALUE=DATE:20260531
DTSTAMP:20260419T223543
CREATED:20260405T031613Z
LAST-MODIFIED:20260405T031613Z
UID:2722-1780099200-1780185599@shinkyokushin-gouken.com
SUMMARY:第1回JFKO全日本シニア大会
DESCRIPTION:
URL:https://shinkyokushin-gouken.com/event/%e7%ac%ac1%e5%9b%9ejfko%e5%85%a8%e6%97%a5%e6%9c%ac%e3%82%b7%e3%83%8b%e3%82%a2%e5%a4%a7%e4%bc%9a/
LOCATION:京王アリーナTOKYO
END:VEVENT
BEGIN:VEVENT
DTSTART;VALUE=DATE:20260530
DTEND;VALUE=DATE:20260601
DTSTAMP:20260419T223543
CREATED:20260405T031412Z
LAST-MODIFIED:20260405T031412Z
UID:2720-1780099200-1780271999@shinkyokushin-gouken.com
SUMMARY:第10回JFKO全日本大会
DESCRIPTION:
URL:https://shinkyokushin-gouken.com/event/%e7%ac%ac10%e5%9b%9ejfko%e5%85%a8%e6%97%a5%e6%9c%ac%e5%a4%a7%e4%bc%9a/
LOCATION:東京都
END:VEVENT
END:VCALENDAR