BEGIN:VCALENDAR
VERSION:2.0
PRODID:-//新極真会 愛知中央支部 西道場・名東道場 - ECPv6.15.20//NONSGML v1.0//EN
CALSCALE:GREGORIAN
METHOD:PUBLISH
X-ORIGINAL-URL:https://shinkyokushin-gouken.com
X-WR-CALDESC:新極真会 愛知中央支部 西道場・名東道場 のイベント
REFRESH-INTERVAL;VALUE=DURATION:PT1H
X-Robots-Tag:noindex
X-PUBLISHED-TTL:PT1H
BEGIN:VTIMEZONE
TZID:Asia/Tokyo
BEGIN:STANDARD
TZOFFSETFROM:+0900
TZOFFSETTO:+0900
TZNAME:JST
DTSTART:20240101T000000
END:STANDARD
END:VTIMEZONE
BEGIN:VEVENT
DTSTART;TZID=Asia/Tokyo:20250810T080000
DTEND;TZID=Asia/Tokyo:20250810T170000
DTSTAMP:20260420T100630
CREATED:20250402T184008Z
LAST-MODIFIED:20250402T184956Z
UID:2088-1754812800-1754845200@shinkyokushin-gouken.com
SUMMARY:第20回愛知県空手道選手権大会
DESCRIPTION:
URL:https://shinkyokushin-gouken.com/event/%e7%ac%ac20%e5%9b%9e%e6%84%9b%e7%9f%a5%e7%9c%8c%e7%a9%ba%e6%89%8b%e9%81%93%e9%81%b8%e6%89%8b%e6%a8%a9%e5%a4%a7%e4%bc%9a/
LOCATION:千種スポーツセンター\, 千種区星が丘山手１２１\, 名古屋市\, 愛知県\, 464-0808\, Japan
CATEGORIES:県大会
END:VEVENT
END:VCALENDAR