BEGIN:VCALENDAR
VERSION:2.0
PRODID:-//新極真会 愛知中央支部 西道場・名東道場 - ECPv6.15.20//NONSGML v1.0//EN
CALSCALE:GREGORIAN
METHOD:PUBLISH
X-WR-CALNAME:新極真会 愛知中央支部 西道場・名東道場
X-ORIGINAL-URL:https://shinkyokushin-gouken.com
X-WR-CALDESC:新極真会 愛知中央支部 西道場・名東道場 のイベント
REFRESH-INTERVAL;VALUE=DURATION:PT1H
X-Robots-Tag:noindex
X-PUBLISHED-TTL:PT1H
BEGIN:VTIMEZONE
TZID:Asia/Tokyo
BEGIN:STANDARD
TZOFFSETFROM:+0900
TZOFFSETTO:+0900
TZNAME:JST
DTSTART:20240101T000000
END:STANDARD
END:VTIMEZONE
BEGIN:VEVENT
DTSTART;VALUE=DATE:20250907
DTEND;VALUE=DATE:20250908
DTSTAMP:20260420T100630
CREATED:20250511T070506Z
LAST-MODIFIED:20250511T070506Z
UID:2109-1757203200-1757289599@shinkyokushin-gouken.com
SUMMARY:第38回全関西空手道選手権大会
DESCRIPTION:
URL:https://shinkyokushin-gouken.com/event/%e7%ac%ac38%e5%9b%9e%e5%85%a8%e9%96%a2%e8%a5%bf%e7%a9%ba%e6%89%8b%e9%81%93%e9%81%b8%e6%89%8b%e6%a8%a9%e5%a4%a7%e4%bc%9a/
LOCATION:東和薬品RACTABドーム\, 三ツ島３丁目７−１６\, 門真市\, 大阪府\, 571-0015\, 日本
CATEGORIES:DF2026第一次選抜大会
END:VEVENT
BEGIN:VEVENT
DTSTART;VALUE=DATE:20251012
DTEND;VALUE=DATE:20251013
DTSTAMP:20260420T100630
CREATED:20250511T070908Z
LAST-MODIFIED:20250511T070908Z
UID:2111-1760227200-1760313599@shinkyokushin-gouken.com
SUMMARY:第3回兵庫県空手道選手権大会
DESCRIPTION:
URL:https://shinkyokushin-gouken.com/event/%e7%ac%ac3%e5%9b%9e%e5%85%b5%e5%ba%ab%e7%9c%8c%e7%a9%ba%e6%89%8b%e9%81%93%e9%81%b8%e6%89%8b%e6%a8%a9%e5%a4%a7%e4%bc%9a/
LOCATION:兵庫県立武道館
CATEGORIES:DF2026第二次選抜大会
END:VEVENT
BEGIN:VEVENT
DTSTART;VALUE=DATE:20251012
DTEND;VALUE=DATE:20251013
DTSTAMP:20260420T100630
CREATED:20250511T071306Z
LAST-MODIFIED:20250511T071306Z
UID:2114-1760227200-1760313599@shinkyokushin-gouken.com
SUMMARY:第13回群馬県空手道選手権大会
DESCRIPTION:
URL:https://shinkyokushin-gouken.com/event/%e7%ac%ac13%e5%9b%9e%e7%be%a4%e9%a6%ac%e7%9c%8c%e7%a9%ba%e6%89%8b%e9%81%93%e9%81%b8%e6%89%8b%e6%a8%a9%e5%a4%a7%e4%bc%9a/
LOCATION:高崎アリーナ\, 和田町四丁目2番1\, 高崎市\, 群馬県\, Japan
CATEGORIES:DF2026第一次選抜大会
END:VEVENT
BEGIN:VEVENT
DTSTART;VALUE=DATE:20251025
DTEND;VALUE=DATE:20251026
DTSTAMP:20260420T100630
CREATED:20250511T071443Z
LAST-MODIFIED:20250511T071443Z
UID:2118-1761350400-1761436799@shinkyokushin-gouken.com
SUMMARY:第29回全関東空手道選手権大会
DESCRIPTION:
URL:https://shinkyokushin-gouken.com/event/%e7%ac%ac29%e5%9b%9e%e5%85%a8%e9%96%a2%e6%9d%b1%e7%a9%ba%e6%89%8b%e9%81%93%e9%81%b8%e6%89%8b%e6%a8%a9%e5%a4%a7%e4%bc%9a/
LOCATION:横浜武道館\, 中区翁町２丁目９−１０\, 横浜市\, 神奈川県\, 日本
CATEGORIES:DF2026第一次選抜大会
END:VEVENT
BEGIN:VEVENT
DTSTART;VALUE=DATE:20251114
DTEND;VALUE=DATE:20251117
DTSTAMP:20260420T100630
CREATED:20250107T072646Z
LAST-MODIFIED:20250107T072646Z
UID:2064-1763078400-1763337599@shinkyokushin-gouken.com
SUMMARY:ユース・ジャパン強化合宿（総本部／富士緑の休暇村）
DESCRIPTION:
URL:https://shinkyokushin-gouken.com/event/%e3%83%a6%e3%83%bc%e3%82%b9%e3%83%bb%e3%82%b8%e3%83%a3%e3%83%91%e3%83%b3%e5%bc%b7%e5%8c%96%e5%90%88%e5%ae%bf%ef%bc%88%e7%b7%8f%e6%9c%ac%e9%83%a8%ef%bc%8f%e5%af%8c%e5%a3%ab%e7%b7%91%e3%81%ae%e4%bc%91/
LOCATION:富士緑の休暇村\, 鳴沢字ジラゴンノ８５３２−５\, 南都留郡鳴沢村\, 山梨県\, 401-0320\, Japan
CATEGORIES:強化合宿
END:VEVENT
BEGIN:VEVENT
DTSTART;VALUE=DATE:20251114
DTEND;VALUE=DATE:20251117
DTSTAMP:20260420T100630
CREATED:20250317T063147Z
LAST-MODIFIED:20250317T063147Z
UID:2083-1763078400-1763337599@shinkyokushin-gouken.com
SUMMARY:ユース・ジャパン強化合宿
DESCRIPTION:
URL:https://shinkyokushin-gouken.com/event/%e3%83%a6%e3%83%bc%e3%82%b9%e3%83%bb%e3%82%b8%e3%83%a3%e3%83%91%e3%83%b3%e5%bc%b7%e5%8c%96%e5%90%88%e5%ae%bf/
LOCATION:富士緑の休暇村\, 鳴沢字ジラゴンノ８５３２−５\, 南都留郡鳴沢村\, 山梨県\, 401-0320\, Japan
END:VEVENT
BEGIN:VEVENT
DTSTART;VALUE=DATE:20251214
DTEND;VALUE=DATE:20251215
DTSTAMP:20260420T100630
CREATED:20250107T072910Z
LAST-MODIFIED:20250511T071921Z
UID:2068-1765670400-1765756799@shinkyokushin-gouken.com
SUMMARY:第2回岐阜県空手道選手権大会
DESCRIPTION:
URL:https://shinkyokushin-gouken.com/event/%e7%ac%ac2%e5%9b%9e%e5%b2%90%e9%98%9c%e7%9c%8c%e7%a9%ba%e6%89%8b%e9%81%93%e9%81%b8%e6%89%8b%e6%a8%a9%e5%a4%a7%e4%bc%9a%ef%bc%8812%e6%9c%88%e4%ba%88%e5%ae%9a%ef%bc%89/
LOCATION:岐阜メモリアルセンター　で愛ドーム
CATEGORIES:県大会
END:VEVENT
BEGIN:VEVENT
DTSTART;TZID=Asia/Tokyo:20260215T080000
DTEND;TZID=Asia/Tokyo:20260215T170000
DTSTAMP:20260420T100630
CREATED:20251226T024707Z
LAST-MODIFIED:20251226T024707Z
UID:2164-1771142400-1771174800@shinkyokushin-gouken.com
SUMMARY:2026愛知錬成大会
DESCRIPTION:
URL:https://shinkyokushin-gouken.com/event/2026%e6%84%9b%e7%9f%a5%e9%8c%ac%e6%88%90%e5%a4%a7%e4%bc%9a/
LOCATION:錬成館\, 中一色町中山26\, 津島市\, 愛知県\, 496-0025\, Japan
CATEGORIES:錬成大会
END:VEVENT
BEGIN:VEVENT
DTSTART;VALUE=DATE:20260222
DTEND;VALUE=DATE:20260223
DTSTAMP:20260420T100630
CREATED:20251226T025427Z
LAST-MODIFIED:20251226T025427Z
UID:2166-1771718400-1771804799@shinkyokushin-gouken.com
SUMMARY:第4回東京江戸川支部錬成大会
DESCRIPTION:
URL:https://shinkyokushin-gouken.com/event/%e7%ac%ac4%e5%9b%9e%e6%9d%b1%e4%ba%ac%e6%b1%9f%e6%88%b8%e5%b7%9d%e6%94%af%e9%83%a8%e9%8c%ac%e6%88%90%e5%a4%a7%e4%bc%9a/
LOCATION:江戸川区立葛西中学校
CATEGORIES:DF2026第二次選抜大会,錬成大会
END:VEVENT
BEGIN:VEVENT
DTSTART;VALUE=DATE:20260223
DTEND;VALUE=DATE:20260224
DTSTAMP:20260420T100630
CREATED:20251226T025514Z
LAST-MODIFIED:20251226T025514Z
UID:2170-1771804800-1771891199@shinkyokushin-gouken.com
SUMMARY:2026和歌山支部錬成大会
DESCRIPTION:
URL:https://shinkyokushin-gouken.com/event/2026%e5%92%8c%e6%ad%8c%e5%b1%b1%e6%94%af%e9%83%a8%e9%8c%ac%e6%88%90%e5%a4%a7%e4%bc%9a/
LOCATION:東京都
END:VEVENT
BEGIN:VEVENT
DTSTART;VALUE=DATE:20260308
DTEND;VALUE=DATE:20260309
DTSTAMP:20260420T100630
CREATED:20251226T025648Z
LAST-MODIFIED:20251226T025648Z
UID:2172-1772928000-1773014399@shinkyokushin-gouken.com
SUMMARY:第5回全日本青少年大会（ＪＦＫＯ）
DESCRIPTION:
URL:https://shinkyokushin-gouken.com/event/%e7%ac%ac5%e5%9b%9e%e5%85%a8%e6%97%a5%e6%9c%ac%e9%9d%92%e5%b0%91%e5%b9%b4%e5%a4%a7%e4%bc%9a%ef%bc%88%ef%bd%8a%ef%bd%86%ef%bd%8b%ef%bd%8f%ef%bc%89/
LOCATION:国立代々木競技場 第一体育館\, 神南２丁目１−１\, 渋谷区\, 東京都\, 1500041
CATEGORIES:全国大会
END:VEVENT
BEGIN:VEVENT
DTSTART;VALUE=DATE:20260426
DTEND;VALUE=DATE:20260427
DTSTAMP:20260420T100630
CREATED:20260405T030941Z
LAST-MODIFIED:20260405T030941Z
UID:2714-1777161600-1777247999@shinkyokushin-gouken.com
SUMMARY:愛知中央支部 春季昇段審査
DESCRIPTION:
URL:https://shinkyokushin-gouken.com/event/%e6%84%9b%e7%9f%a5%e4%b8%ad%e5%a4%ae%e6%94%af%e9%83%a8-%e6%98%a5%e5%ad%a3%e6%98%87%e6%ae%b5%e5%af%a9%e6%9f%bb/
LOCATION:東郷町総合体育館\, 春木北反田３５\, 愛知郡東郷町\, 愛知県\, Japan
END:VEVENT
BEGIN:VEVENT
DTSTART;VALUE=DATE:20260524
DTEND;VALUE=DATE:20260525
DTSTAMP:20260420T100630
CREATED:20260405T031253Z
LAST-MODIFIED:20260405T031253Z
UID:2717-1779580800-1779667199@shinkyokushin-gouken.com
SUMMARY:第32回長野県大会
DESCRIPTION:
URL:https://shinkyokushin-gouken.com/event/%e7%ac%ac32%e5%9b%9e%e9%95%b7%e9%87%8e%e7%9c%8c%e5%a4%a7%e4%bc%9a/
LOCATION:松本市総合体育館\, 美須々５−１\, 松本市\, 長野県\, 日本
END:VEVENT
BEGIN:VEVENT
DTSTART;VALUE=DATE:20260530
DTEND;VALUE=DATE:20260531
DTSTAMP:20260420T100630
CREATED:20260405T031613Z
LAST-MODIFIED:20260405T031613Z
UID:2722-1780099200-1780185599@shinkyokushin-gouken.com
SUMMARY:第1回JFKO全日本シニア大会
DESCRIPTION:
URL:https://shinkyokushin-gouken.com/event/%e7%ac%ac1%e5%9b%9ejfko%e5%85%a8%e6%97%a5%e6%9c%ac%e3%82%b7%e3%83%8b%e3%82%a2%e5%a4%a7%e4%bc%9a/
LOCATION:京王アリーナTOKYO
END:VEVENT
BEGIN:VEVENT
DTSTART;VALUE=DATE:20260530
DTEND;VALUE=DATE:20260601
DTSTAMP:20260420T100630
CREATED:20260405T031412Z
LAST-MODIFIED:20260405T031412Z
UID:2720-1780099200-1780271999@shinkyokushin-gouken.com
SUMMARY:第10回JFKO全日本大会
DESCRIPTION:
URL:https://shinkyokushin-gouken.com/event/%e7%ac%ac10%e5%9b%9ejfko%e5%85%a8%e6%97%a5%e6%9c%ac%e5%a4%a7%e4%bc%9a/
LOCATION:東京都
END:VEVENT
BEGIN:VEVENT
DTSTART;VALUE=DATE:20260614
DTEND;VALUE=DATE:20260615
DTSTAMP:20260420T100630
CREATED:20251226T030049Z
LAST-MODIFIED:20251226T030049Z
UID:2174-1781395200-1781481599@shinkyokushin-gouken.com
SUMMARY:第21回愛知県空手道選手権大会
DESCRIPTION:
URL:https://shinkyokushin-gouken.com/event/%e7%ac%ac21%e5%9b%9e%e6%84%9b%e7%9f%a5%e7%9c%8c%e7%a9%ba%e6%89%8b%e9%81%93%e9%81%b8%e6%89%8b%e6%a8%a9%e5%a4%a7%e4%bc%9a/
LOCATION:枇杷島スポーツセンター
END:VEVENT
BEGIN:VEVENT
DTSTART;VALUE=DATE:20260628
DTEND;VALUE=DATE:20260629
DTSTAMP:20260420T100630
CREATED:20260405T031753Z
LAST-MODIFIED:20260405T031753Z
UID:2725-1782604800-1782691199@shinkyokushin-gouken.com
SUMMARY:第4回東京都大会（DF2027第1次選抜）
DESCRIPTION:
URL:https://shinkyokushin-gouken.com/event/%e7%ac%ac4%e5%9b%9e%e6%9d%b1%e4%ba%ac%e9%83%bd%e5%a4%a7%e4%bc%9a%ef%bc%88df2027%e7%ac%ac1%e6%ac%a1%e9%81%b8%e6%8a%9c%ef%bc%89/
LOCATION:駒沢オリンピック公園 総合運動場体育館
END:VEVENT
BEGIN:VEVENT
DTSTART;VALUE=DATE:20260718
DTEND;VALUE=DATE:20260720
DTSTAMP:20260420T100630
CREATED:20260405T031906Z
LAST-MODIFIED:20260405T031906Z
UID:2728-1784332800-1784505599@shinkyokushin-gouken.com
SUMMARY:カラテドリームフェスティバル2026国際大会
DESCRIPTION:
URL:https://shinkyokushin-gouken.com/event/%e3%82%ab%e3%83%a9%e3%83%86%e3%83%89%e3%83%aa%e3%83%bc%e3%83%a0%e3%83%95%e3%82%a7%e3%82%b9%e3%83%86%e3%82%a3%e3%83%90%e3%83%ab2026%e5%9b%bd%e9%9a%9b%e5%a4%a7%e4%bc%9a/
LOCATION:国立代々木競技場 第一体育館\, 神南２丁目１−１\, 渋谷区\, 東京都\, 1500041
END:VEVENT
BEGIN:VEVENT
DTSTART;TZID=Asia/Tokyo:20260920T080000
DTEND;TZID=Asia/Tokyo:20260920T170000
DTSTAMP:20260420T100630
CREATED:20251226T030214Z
LAST-MODIFIED:20251226T030214Z
UID:2177-1789891200-1789923600@shinkyokushin-gouken.com
SUMMARY:第39回全関西空手道選手権大会
DESCRIPTION:
URL:https://shinkyokushin-gouken.com/event/%e7%ac%ac39%e5%9b%9e%e5%85%a8%e9%96%a2%e8%a5%bf%e7%a9%ba%e6%89%8b%e9%81%93%e9%81%b8%e6%89%8b%e6%a8%a9%e5%a4%a7%e4%bc%9a/
LOCATION:東和薬品RACTABドーム\, 三ツ島３丁目７−１６\, 門真市\, 大阪府\, 571-0015\, 日本
CATEGORIES:DF2026第一次選抜大会,選抜対象大会
END:VEVENT
END:VCALENDAR