BEGIN:VCALENDAR
VERSION:2.0
PRODID:-//新極真会 愛知中央支部 西道場・名東道場 - ECPv6.15.20//NONSGML v1.0//EN
CALSCALE:GREGORIAN
METHOD:PUBLISH
X-WR-CALNAME:新極真会 愛知中央支部 西道場・名東道場
X-ORIGINAL-URL:https://shinkyokushin-gouken.com
X-WR-CALDESC:新極真会 愛知中央支部 西道場・名東道場 のイベント
REFRESH-INTERVAL;VALUE=DURATION:PT1H
X-Robots-Tag:noindex
X-PUBLISHED-TTL:PT1H
BEGIN:VTIMEZONE
TZID:Asia/Tokyo
BEGIN:STANDARD
TZOFFSETFROM:+0900
TZOFFSETTO:+0900
TZNAME:JST
DTSTART:20230101T000000
END:STANDARD
END:VTIMEZONE
BEGIN:VEVENT
DTSTART;VALUE=DATE:20250907
DTEND;VALUE=DATE:20250908
DTSTAMP:20260420T100103
CREATED:20250511T070506Z
LAST-MODIFIED:20250511T070506Z
UID:2109-1757203200-1757289599@shinkyokushin-gouken.com
SUMMARY:第38回全関西空手道選手権大会
DESCRIPTION:
URL:https://shinkyokushin-gouken.com/event/%e7%ac%ac38%e5%9b%9e%e5%85%a8%e9%96%a2%e8%a5%bf%e7%a9%ba%e6%89%8b%e9%81%93%e9%81%b8%e6%89%8b%e6%a8%a9%e5%a4%a7%e4%bc%9a/
LOCATION:東和薬品RACTABドーム\, 三ツ島３丁目７−１６\, 門真市\, 大阪府\, 571-0015\, 日本
CATEGORIES:DF2026第一次選抜大会
END:VEVENT
BEGIN:VEVENT
DTSTART;TZID=Asia/Tokyo:20250810T080000
DTEND;TZID=Asia/Tokyo:20250810T170000
DTSTAMP:20260420T100103
CREATED:20250402T184008Z
LAST-MODIFIED:20250402T184956Z
UID:2088-1754812800-1754845200@shinkyokushin-gouken.com
SUMMARY:第20回愛知県空手道選手権大会
DESCRIPTION:
URL:https://shinkyokushin-gouken.com/event/%e7%ac%ac20%e5%9b%9e%e6%84%9b%e7%9f%a5%e7%9c%8c%e7%a9%ba%e6%89%8b%e9%81%93%e9%81%b8%e6%89%8b%e6%a8%a9%e5%a4%a7%e4%bc%9a/
LOCATION:千種スポーツセンター\, 千種区星が丘山手１２１\, 名古屋市\, 愛知県\, 464-0808\, Japan
CATEGORIES:県大会
END:VEVENT
BEGIN:VEVENT
DTSTART;TZID=Asia/Tokyo:20250719T080000
DTEND;TZID=Asia/Tokyo:20250720T170000
DTSTAMP:20260420T100103
CREATED:20241102T143131Z
LAST-MODIFIED:20250402T185040Z
UID:2061-1752912000-1753030800@shinkyokushin-gouken.com
SUMMARY:カラテドリームフェスティバル2025全国大会
DESCRIPTION:
URL:https://shinkyokushin-gouken.com/event/%e3%82%ab%e3%83%a9%e3%83%86%e3%83%89%e3%83%aa%e3%83%bc%e3%83%a0%e3%83%95%e3%82%a7%e3%82%b9%e3%83%86%e3%82%a3%e3%83%90%e3%83%ab2025%e5%85%a8%e5%9b%bd%e5%a4%a7%e4%bc%9a/
LOCATION:武蔵野の森総合スポーツプラザ\, 西町２９０−１１\, 調布市\, 東京都\, 182-0032\, 日本
CATEGORIES:全国大会
END:VEVENT
BEGIN:VEVENT
DTSTART;VALUE=DATE:20250622
DTEND;VALUE=DATE:20250623
DTSTAMP:20260420T100103
CREATED:20250511T023828Z
LAST-MODIFIED:20250511T023828Z
UID:2102-1750550400-1750636799@shinkyokushin-gouken.com
SUMMARY:第3回東京都空手道選手権大会
DESCRIPTION:
URL:https://shinkyokushin-gouken.com/event/%e7%ac%ac3%e5%9b%9e%e6%9d%b1%e4%ba%ac%e9%83%bd%e7%a9%ba%e6%89%8b%e9%81%93%e9%81%b8%e6%89%8b%e6%a8%a9%e5%a4%a7%e4%bc%9a/
LOCATION:駒沢公園屋内球技場\, 駒沢公園１\, 世田谷区\, 東京都\, 154-0013\, Japan
CATEGORIES:DF2026第一次選抜大会,県大会
END:VEVENT
BEGIN:VEVENT
DTSTART;VALUE=DATE:20250531
DTEND;VALUE=DATE:20250602
DTSTAMP:20260420T100103
CREATED:20250317T062842Z
LAST-MODIFIED:20250317T062842Z
UID:2081-1748649600-1748822399@shinkyokushin-gouken.com
SUMMARY:第2回国際フルコンタクト空手道選手権大会・第1回国際シニアフルコンタクト空手道選手権大会
DESCRIPTION:
URL:https://shinkyokushin-gouken.com/event/%e7%ac%ac2%e5%9b%9e%e5%9b%bd%e9%9a%9b%e3%83%95%e3%83%ab%e3%82%b3%e3%83%b3%e3%82%bf%e3%82%af%e3%83%88%e7%a9%ba%e6%89%8b%e9%81%93%e9%81%b8%e6%89%8b%e6%a8%a9%e5%a4%a7%e4%bc%9a%e3%83%bb%e7%ac%ac1%e5%9b%9e/
LOCATION:有明アリーナ\, 有明１丁目１１−１\, 東京都江東区\, Japan
CATEGORIES:全国大会,国際大会
END:VEVENT
BEGIN:VEVENT
DTSTART;VALUE=DATE:20250531
DTEND;VALUE=DATE:20250602
DTSTAMP:20260420T100103
CREATED:20250317T062516Z
LAST-MODIFIED:20250317T062917Z
UID:2077-1748649600-1748822399@shinkyokushin-gouken.com
SUMMARY:第1回全世界フルコンタクト空手道選手権大会
DESCRIPTION:
URL:https://shinkyokushin-gouken.com/event/%e7%ac%ac1%e5%9b%9e%e5%85%a8%e4%b8%96%e7%95%8c%e3%83%95%e3%83%ab%e3%82%b3%e3%83%b3%e3%82%bf%e3%82%af%e3%83%88%e7%a9%ba%e6%89%8b%e9%81%93%e9%81%b8%e6%89%8b%e6%a8%a9%e5%a4%a7%e4%bc%9a/
LOCATION:有明アリーナ\, 有明１丁目１１−１\, 東京都江東区\, Japan
CATEGORIES:国際大会
END:VEVENT
BEGIN:VEVENT
DTSTART;VALUE=DATE:20250525
DTEND;VALUE=DATE:20250526
DTSTAMP:20260420T100103
CREATED:20250402T183549Z
LAST-MODIFIED:20250402T184912Z
UID:2086-1748131200-1748217599@shinkyokushin-gouken.com
SUMMARY:第32回全中部空手道選手権大会
DESCRIPTION:
URL:https://shinkyokushin-gouken.com/event/%e7%ac%ac32%e5%9b%9e%e5%85%a8%e4%b8%ad%e9%83%a8%e7%a9%ba%e6%89%8b%e9%81%93%e9%81%b8%e6%89%8b%e6%a8%a9%e5%a4%a7%e4%bc%9a/
LOCATION:松本市総合体育館\, 美須々５−１\, 松本市\, 長野県\, 日本
CATEGORIES:DF2026第一次選抜大会,ブロック大会,選抜対象大会
END:VEVENT
BEGIN:VEVENT
DTSTART;TZID=Asia/Tokyo:20250329T080000
DTEND;TZID=Asia/Tokyo:20250329T170000
DTSTAMP:20260420T100103
CREATED:20250317T062130Z
LAST-MODIFIED:20250317T062130Z
UID:2075-1743235200-1743267600@shinkyokushin-gouken.com
SUMMARY:関西地区空手道錬成大会
DESCRIPTION:
URL:https://shinkyokushin-gouken.com/event/%e9%96%a2%e8%a5%bf%e5%9c%b0%e5%8c%ba%e7%a9%ba%e6%89%8b%e9%81%93%e9%8c%ac%e6%88%90%e5%a4%a7%e4%bc%9a-3/
LOCATION:京都市武道センター\, 左京区聖護院円頓美町４６−２\, 京都市\, 京都府\, 606-8323\, 日本
CATEGORIES:DF2025第2次選抜大会,錬成大会
END:VEVENT
BEGIN:VEVENT
DTSTART;TZID=Asia/Tokyo:20250309T080000
DTEND;TZID=Asia/Tokyo:20250309T170000
DTSTAMP:20260420T100103
CREATED:20241102T142957Z
LAST-MODIFIED:20250402T185146Z
UID:2059-1741507200-1741539600@shinkyokushin-gouken.com
SUMMARY:第4回全日本青少年フルコンタクト空手道選手権大会（JFKO)
DESCRIPTION:
URL:https://shinkyokushin-gouken.com/event/%e7%ac%ac4%e5%9b%9e%e5%85%a8%e6%97%a5%e6%9c%ac%e9%9d%92%e5%b0%91%e5%b9%b4%e3%83%95%e3%83%ab%e3%82%b3%e3%83%b3%e3%82%bf%e3%82%af%e3%83%88%e7%a9%ba%e6%89%8b%e9%81%93%e9%81%b8%e6%89%8b%e6%a8%a9%e5%a4%a7/
LOCATION:武蔵野の森総合スポーツプラザ\, 西町２９０−１１\, 調布市\, 東京都\, 182-0032\, 日本
CATEGORIES:全国大会
END:VEVENT
BEGIN:VEVENT
DTSTART;VALUE=DATE:20250216
DTEND;VALUE=DATE:20250217
DTSTAMP:20260420T100103
CREATED:20250107T122400Z
LAST-MODIFIED:20250402T185212Z
UID:2071-1739664000-1739750399@shinkyokushin-gouken.com
SUMMARY:愛知空手道錬成大会
DESCRIPTION:
URL:https://shinkyokushin-gouken.com/event/%e6%84%9b%e7%9f%a5%e7%a9%ba%e6%89%8b%e9%81%93%e9%8c%ac%e6%88%90%e5%a4%a7%e4%bc%9a/
LOCATION:錬成館\, 中一色町中山26\, 津島市\, 愛知県\, 496-0025\, Japan
CATEGORIES:錬成大会
END:VEVENT
BEGIN:VEVENT
DTSTART;TZID=Asia/Tokyo:20241222T090000
DTEND;TZID=Asia/Tokyo:20241222T170000
DTSTAMP:20260420T100103
CREATED:20241102T123054Z
LAST-MODIFIED:20250402T185225Z
UID:2057-1734858000-1734886800@shinkyokushin-gouken.com
SUMMARY:第1回岐阜県空手道選手権大会
DESCRIPTION:
URL:https://shinkyokushin-gouken.com/event/%e7%ac%ac1%e5%9b%9e%e5%b2%90%e9%98%9c%e7%9c%8c%e7%a9%ba%e6%89%8b%e9%81%93%e9%81%b8%e6%89%8b%e6%a8%a9%e5%a4%a7%e4%bc%9a/
LOCATION:岐阜メモリアルセンター ふれ愛ドーム\, 福光大野２６７５−２８\, 岐阜市\, 岐阜県\, 日本
CATEGORIES:県大会
END:VEVENT
BEGIN:VEVENT
DTSTART;TZID=Asia/Tokyo:20241117T080000
DTEND;TZID=Asia/Tokyo:20241117T170000
DTSTAMP:20260420T100103
CREATED:20240307T120627Z
LAST-MODIFIED:20240307T120627Z
UID:2001-1731830400-1731862800@shinkyokushin-gouken.com
SUMMARY:第31回和歌山県大会
DESCRIPTION:
URL:https://shinkyokushin-gouken.com/event/%e7%ac%ac31%e5%9b%9e%e5%92%8c%e6%ad%8c%e5%b1%b1%e7%9c%8c%e5%a4%a7%e4%bc%9a/
LOCATION:和歌山県立体育館\, 市中之島２２３８\, 和歌山\, 和歌山県\, 日本
CATEGORIES:県大会
END:VEVENT
BEGIN:VEVENT
DTSTART;TZID=Asia/Tokyo:20241103T080000
DTEND;TZID=Asia/Tokyo:20241103T170000
DTSTAMP:20260420T100103
CREATED:20240307T120223Z
LAST-MODIFIED:20240307T120223Z
UID:1998-1730620800-1730653200@shinkyokushin-gouken.com
SUMMARY:第28回全関東大会（DF2025第1次選抜）
DESCRIPTION:
URL:https://shinkyokushin-gouken.com/event/%e7%ac%ac28%e5%9b%9e%e5%85%a8%e9%96%a2%e6%9d%b1%e5%a4%a7%e4%bc%9a%ef%bc%88df2025%e7%ac%ac1%e6%ac%a1%e9%81%b8%e6%8a%9c%ef%bc%89/
LOCATION:横浜武道館\, 中区翁町２丁目９−１０\, 横浜市\, 神奈川県\, 日本
CATEGORIES:DF2025第1次選抜大会,ブロック大会,選抜対象大会
END:VEVENT
BEGIN:VEVENT
DTSTART;TZID=Asia/Tokyo:20241027T080000
DTEND;TZID=Asia/Tokyo:20241027T170000
DTSTAMP:20260420T100103
CREATED:20240307T120125Z
LAST-MODIFIED:20240307T120125Z
UID:1996-1730016000-1730048400@shinkyokushin-gouken.com
SUMMARY:第37回全関西大会（DF2025第1次選抜）
DESCRIPTION:大阪府知事杯第37回全関西空手道選手権大会
URL:https://shinkyokushin-gouken.com/event/%e7%ac%ac37%e5%9b%9e%e5%85%a8%e9%96%a2%e8%a5%bf%e5%a4%a7%e4%bc%9a%ef%bc%88df2025%e7%ac%ac1%e6%ac%a1%e9%81%b8%e6%8a%9c%ef%bc%89/
LOCATION:東和薬品RACTABドーム\, 三ツ島３丁目７−１６\, 門真市\, 大阪府\, 571-0015\, 日本
CATEGORIES:DF2025第1次選抜大会,ブロック大会,選抜対象大会
END:VEVENT
BEGIN:VEVENT
DTSTART;TZID=Asia/Tokyo:20241020T080000
DTEND;TZID=Asia/Tokyo:20241020T170000
DTSTAMP:20260420T100103
CREATED:20240307T120744Z
LAST-MODIFIED:20240307T120744Z
UID:2003-1729411200-1729443600@shinkyokushin-gouken.com
SUMMARY:第30回長野県大会
DESCRIPTION:
URL:https://shinkyokushin-gouken.com/event/%e7%ac%ac30%e5%9b%9e%e9%95%b7%e9%87%8e%e7%9c%8c%e5%a4%a7%e4%bc%9a/
LOCATION:松本市総合体育館\, 美須々５−１\, 松本市\, 長野県\, 日本
CATEGORIES:県大会
END:VEVENT
BEGIN:VEVENT
DTSTART;VALUE=DATE:20241020
DTEND;VALUE=DATE:20241021
DTSTAMP:20260420T100103
CREATED:20241020T110457Z
LAST-MODIFIED:20250402T185242Z
UID:2050-1729382400-1729468799@shinkyokushin-gouken.com
SUMMARY:第30回長野県空手道選手権大会
DESCRIPTION:
URL:https://shinkyokushin-gouken.com/event/%e7%ac%ac30%e5%9b%9e%e9%95%b7%e9%87%8e%e7%9c%8c%e7%a9%ba%e6%89%8b%e9%81%93%e9%81%b8%e6%89%8b%e6%a8%a9%e5%a4%a7%e4%bc%9a/
LOCATION:松本市総合体育館\, 美須々５−１\, 松本市\, 長野県\, 日本
CATEGORIES:県大会
END:VEVENT
BEGIN:VEVENT
DTSTART;TZID=Asia/Tokyo:20240929T080000
DTEND;TZID=Asia/Tokyo:20240929T170000
DTSTAMP:20260420T100103
CREATED:20240307T115955Z
LAST-MODIFIED:20240307T115955Z
UID:1992-1727596800-1727629200@shinkyokushin-gouken.com
SUMMARY:北関東選抜大会（第28回栃木県錬成大会）（DF2025第2次選抜)
DESCRIPTION:北関東選抜大会（第28回栃木県錬成大会）（DF2025第2次選抜）
URL:https://shinkyokushin-gouken.com/event/%e5%8c%97%e9%96%a2%e6%9d%b1%e9%81%b8%e6%8a%9c%e5%a4%a7%e4%bc%9a%ef%bc%88%e7%ac%ac28%e5%9b%9e%e6%a0%83%e6%9c%a8%e7%9c%8c%e9%8c%ac%e6%88%90%e5%a4%a7%e4%bc%9a%ef%bc%89%ef%bc%88df2025%e7%ac%ac2%e6%ac%a1/
LOCATION:栃木県立県南体育館\, 外城３７１−１\, 小山市\, 栃木県\, 323-0042\, 日本
CATEGORIES:DF2025第2次選抜大会,選抜対象大会,錬成大会
END:VEVENT
BEGIN:VEVENT
DTSTART;TZID=Asia/Tokyo:20240922T080000
DTEND;TZID=Asia/Tokyo:20240922T170000
DTSTAMP:20260420T100103
CREATED:20240307T115733Z
LAST-MODIFIED:20240307T115733Z
UID:1988-1726992000-1727024400@shinkyokushin-gouken.com
SUMMARY:第26回全北海道大会（DF2025第1次選抜）
DESCRIPTION:
URL:https://shinkyokushin-gouken.com/event/%e7%ac%ac26%e5%9b%9e%e5%85%a8%e5%8c%97%e6%b5%b7%e9%81%93%e5%a4%a7%e4%bc%9a%ef%bc%88df2025%e7%ac%ac1%e6%ac%a1%e9%81%b8%e6%8a%9c%ef%bc%89/
LOCATION:苫小牧市総合体育館\, 末広町３丁目２−１６\, 苫小牧市\, 北海道\, 日本
CATEGORIES:DF2025第1次選抜大会,ブロック大会,県大会,選抜対象大会
END:VEVENT
BEGIN:VEVENT
DTSTART;TZID=Asia/Tokyo:20240916T080000
DTEND;TZID=Asia/Tokyo:20240916T170000
DTSTAMP:20260420T100103
CREATED:20240307T115450Z
LAST-MODIFIED:20240307T115450Z
UID:1985-1726473600-1726506000@shinkyokushin-gouken.com
SUMMARY:第2回兵庫県大会（DF2025第2次選抜）
DESCRIPTION:
URL:https://shinkyokushin-gouken.com/event/%e7%ac%ac2%e5%9b%9e%e5%85%b5%e5%ba%ab%e7%9c%8c%e5%a4%a7%e4%bc%9a%ef%bc%88df2025%e7%ac%ac2%e6%ac%a1%e9%81%b8%e6%8a%9c%ef%bc%89/
LOCATION:兵庫県立武道館
CATEGORIES:DF2025第2次選抜大会,県大会,選抜対象大会
END:VEVENT
BEGIN:VEVENT
DTSTART;TZID=Asia/Tokyo:20240915T080000
DTEND;TZID=Asia/Tokyo:20240915T170000
DTSTAMP:20260420T100103
CREATED:20240307T120941Z
LAST-MODIFIED:20240307T120941Z
UID:2005-1726387200-1726419600@shinkyokushin-gouken.com
SUMMARY:第10回静岡県大会
DESCRIPTION:
URL:https://shinkyokushin-gouken.com/event/%e7%ac%ac10%e5%9b%9e%e9%9d%99%e5%b2%a1%e7%9c%8c%e5%a4%a7%e4%bc%9a/
LOCATION:アミューズ豊田\, 上新屋３０４\, 磐田市\, 静岡県\, 438-0831\, 日本
CATEGORIES:県大会
END:VEVENT
BEGIN:VEVENT
DTSTART;TZID=Asia/Tokyo:20240915T080000
DTEND;TZID=Asia/Tokyo:20240915T170000
DTSTAMP:20260420T100103
CREATED:20240307T115312Z
LAST-MODIFIED:20240307T115312Z
UID:1981-1726387200-1726419600@shinkyokushin-gouken.com
SUMMARY:第10回全北陸大会（DF2025第1次選抜）
DESCRIPTION:
URL:https://shinkyokushin-gouken.com/event/%e7%ac%ac10%e5%9b%9e%e5%85%a8%e5%8c%97%e9%99%b8%e5%a4%a7%e4%bc%9a%ef%bc%88df2025%e7%ac%ac1%e6%ac%a1%e9%81%b8%e6%8a%9c%ef%bc%89/
LOCATION:新潟市東総合スポーツセンター\, 東区はなみずき３丁目４−１\, 新潟市\, 新潟県\, 950-0893\, 日本
CATEGORIES:DF2025第1次選抜大会,ブロック大会,選抜対象大会
END:VEVENT
BEGIN:VEVENT
DTSTART;TZID=Asia/Tokyo:20240818T080000
DTEND;TZID=Asia/Tokyo:20240818T170000
DTSTAMP:20260420T100103
CREATED:20240307T115050Z
LAST-MODIFIED:20240307T115050Z
UID:1979-1723968000-1724000400@shinkyokushin-gouken.com
SUMMARY:第37回全九州大会（DF2025第1次選抜）
DESCRIPTION:
URL:https://shinkyokushin-gouken.com/event/%e7%ac%ac37%e5%9b%9e%e5%85%a8%e4%b9%9d%e5%b7%9e%e5%a4%a7%e4%bc%9a%ef%bc%88df2025%e7%ac%ac1%e6%ac%a1%e9%81%b8%e6%8a%9c%ef%bc%89/
LOCATION:福岡国際センター\, 博多区築港本町２−２\, 福岡市\, 福岡県\, 812-0021\, 日本
CATEGORIES:DF2025第1次選抜大会,ブロック大会,選抜対象大会
END:VEVENT
BEGIN:VEVENT
DTSTART;TZID=Asia/Tokyo:20240804T080000
DTEND;TZID=Asia/Tokyo:20240804T170000
DTSTAMP:20260420T100103
CREATED:20240307T114953Z
LAST-MODIFIED:20240307T114953Z
UID:1977-1722758400-1722790800@shinkyokushin-gouken.com
SUMMARY:第31回全中部大会（DF2025第1次選抜）
DESCRIPTION:
URL:https://shinkyokushin-gouken.com/event/%e7%ac%ac31%e5%9b%9e%e5%85%a8%e4%b8%ad%e9%83%a8%e5%a4%a7%e4%bc%9a%ef%bc%88df2025%e7%ac%ac1%e6%ac%a1%e9%81%b8%e6%8a%9c%ef%bc%89/
LOCATION:パロマ瑞穂アリーナ\, 瑞穂区田辺通３丁目4\, 名古屋市\, 愛知県
CATEGORIES:DF2025第1次選抜大会,ブロック大会,選抜対象大会
END:VEVENT
BEGIN:VEVENT
DTSTART;TZID=Asia/Tokyo:20240720T080000
DTEND;TZID=Asia/Tokyo:20240721T170000
DTSTAMP:20260420T100103
CREATED:20231130T104641Z
LAST-MODIFIED:20231130T104641Z
UID:1931-1721462400-1721581200@shinkyokushin-gouken.com
SUMMARY:カラテドリームフェスティバル2024国際大会
DESCRIPTION:
URL:https://shinkyokushin-gouken.com/event/%e3%82%ab%e3%83%a9%e3%83%86%e3%83%89%e3%83%aa%e3%83%bc%e3%83%a0%e3%83%95%e3%82%a7%e3%82%b9%e3%83%86%e3%82%a3%e3%83%90%e3%83%ab2024%e5%9b%bd%e9%9a%9b%e5%a4%a7%e4%bc%9a/
LOCATION:東京体育館\, 千駄ケ谷１丁目１７−１\, 渋谷区\, 東京都\, 日本
END:VEVENT
BEGIN:VEVENT
DTSTART;TZID=Asia/Tokyo:20240623T080000
DTEND;TZID=Asia/Tokyo:20240623T170000
DTSTAMP:20260420T100103
CREATED:20240307T114729Z
LAST-MODIFIED:20240307T114729Z
UID:1975-1719129600-1719162000@shinkyokushin-gouken.com
SUMMARY:第14回三重中央支部錬成大会
DESCRIPTION:
URL:https://shinkyokushin-gouken.com/event/%e7%ac%ac14%e5%9b%9e%e4%b8%89%e9%87%8d%e4%b8%ad%e5%a4%ae%e6%94%af%e9%83%a8%e9%8c%ac%e6%88%90%e5%a4%a7%e4%bc%9a/
LOCATION:鈴鹿市武道館\, 江島台２丁目６−１\, 鈴鹿市\, 三重県\, 5101231\, 日本
CATEGORIES:錬成大会
END:VEVENT
BEGIN:VEVENT
DTSTART;TZID=Asia/Tokyo:20240616T080000
DTEND;TZID=Asia/Tokyo:20240616T170000
DTSTAMP:20260420T100103
CREATED:20240307T114553Z
LAST-MODIFIED:20240307T114553Z
UID:1971-1718524800-1718557200@shinkyokushin-gouken.com
SUMMARY:第2回東京都大会（DF2025第1次選抜）
DESCRIPTION:
URL:https://shinkyokushin-gouken.com/event/%e7%ac%ac2%e5%9b%9e%e6%9d%b1%e4%ba%ac%e9%83%bd%e5%a4%a7%e4%bc%9a%ef%bc%88df2025%e7%ac%ac1%e6%ac%a1%e9%81%b8%e6%8a%9c%ef%bc%89/
LOCATION:屋内球技場\,\, 駒沢公園１ 屋内球技場\, 世田谷区\, 東京都\, 日本
CATEGORIES:DF2025第1次選抜大会,県大会,選抜対象大会
END:VEVENT
BEGIN:VEVENT
DTSTART;TZID=Asia/Tokyo:20240602T080000
DTEND;TZID=Asia/Tokyo:20240602T170000
DTSTAMP:20260420T100103
CREATED:20240307T114321Z
LAST-MODIFIED:20240307T114321Z
UID:1968-1717315200-1717347600@shinkyokushin-gouken.com
SUMMARY:長野県錬成大会（DF2025第2次選抜）
DESCRIPTION:
URL:https://shinkyokushin-gouken.com/event/%e9%95%b7%e9%87%8e%e7%9c%8c%e9%8c%ac%e6%88%90%e5%a4%a7%e4%bc%9a%ef%bc%88df2025%e7%ac%ac2%e6%ac%a1%e9%81%b8%e6%8a%9c%ef%bc%89/
LOCATION:松本市 柔剣道場・弓道場\, 中央４丁目７−２８\, 松本市\, 長野県\, 日本
CATEGORIES:DF2025第2次選抜大会,選抜対象大会,錬成大会
END:VEVENT
BEGIN:VEVENT
DTSTART;TZID=Asia/Tokyo:20240421T080000
DTEND;TZID=Asia/Tokyo:20240421T170000
DTSTAMP:20260420T100103
CREATED:20240307T114020Z
LAST-MODIFIED:20240307T114020Z
UID:1963-1713686400-1713718800@shinkyokushin-gouken.com
SUMMARY:第37回ウエイト制福島県大会（DF2025第1次選抜）
DESCRIPTION:第37回オープントーナメント　ウエイト制福島県空手道選手権大会\n第32回福島県ジュニア空手道選手権大会
URL:https://shinkyokushin-gouken.com/event/%e7%ac%ac37%e5%9b%9e%e3%82%a6%e3%82%a8%e3%82%a4%e3%83%88%e5%88%b6%e7%a6%8f%e5%b3%b6%e7%9c%8c%e5%a4%a7%e4%bc%9a%ef%bc%88df2025%e7%ac%ac1%e6%ac%a1%e9%81%b8%e6%8a%9c%ef%bc%89/
LOCATION:郡山市西部第二体育館
CATEGORIES:DF2025第1次選抜大会,県大会
END:VEVENT
BEGIN:VEVENT
DTSTART;TZID=Asia/Tokyo:20240421T080000
DTEND;TZID=Asia/Tokyo:20240421T170000
DTSTAMP:20260420T100103
CREATED:20240307T111745Z
LAST-MODIFIED:20240307T114050Z
UID:1949-1713686400-1713718800@shinkyokushin-gouken.com
SUMMARY:全四国大会（DF2025第1次選抜）
DESCRIPTION:
URL:https://shinkyokushin-gouken.com/event/%e9%96%a2%e8%a5%bf%e5%9c%b0%e5%8c%ba%e7%a9%ba%e6%89%8b%e9%81%93%e9%8c%ac%e6%88%90%e5%a4%a7%e4%bc%9a/
LOCATION:くろしおアリーナ\, 五台山１７３６−１\, 高知市\, 高知県\, 781-8125\, 日本
CATEGORIES:DF2025第1次選抜大会,ブロック大会,選抜対象大会
END:VEVENT
BEGIN:VEVENT
DTSTART;TZID=Asia/Tokyo:20240317T080000
DTEND;TZID=Asia/Tokyo:20240317T170000
DTSTAMP:20260420T100103
CREATED:20240314T022816Z
LAST-MODIFIED:20240314T022816Z
UID:2020-1710662400-1710694800@shinkyokushin-gouken.com
SUMMARY:関西地区空手道錬成大会
DESCRIPTION:
URL:https://shinkyokushin-gouken.com/event/%e9%96%a2%e8%a5%bf%e5%9c%b0%e5%8c%ba%e7%a9%ba%e6%89%8b%e9%81%93%e9%8c%ac%e6%88%90%e5%a4%a7%e4%bc%9a-2/
LOCATION:京都市武道センター\, 左京区聖護院円頓美町４６−２\, 京都市\, 京都府\, 606-8323\, 日本
END:VEVENT
END:VCALENDAR