BEGIN:VCALENDAR
VERSION:2.0
PRODID:-//新極真会 愛知中央支部 西道場・名東道場 - ECPv6.15.20//NONSGML v1.0//EN
CALSCALE:GREGORIAN
METHOD:PUBLISH
X-WR-CALNAME:新極真会 愛知中央支部 西道場・名東道場
X-ORIGINAL-URL:https://shinkyokushin-gouken.com
X-WR-CALDESC:新極真会 愛知中央支部 西道場・名東道場 のイベント
REFRESH-INTERVAL;VALUE=DURATION:PT1H
X-Robots-Tag:noindex
X-PUBLISHED-TTL:PT1H
BEGIN:VTIMEZONE
TZID:Asia/Tokyo
BEGIN:STANDARD
TZOFFSETFROM:+0900
TZOFFSETTO:+0900
TZNAME:JST
DTSTART:20220101T000000
END:STANDARD
END:VTIMEZONE
BEGIN:VEVENT
DTSTART;TZID=Asia/Tokyo:20240623T080000
DTEND;TZID=Asia/Tokyo:20240623T170000
DTSTAMP:20260421T105647
CREATED:20240307T114729Z
LAST-MODIFIED:20240307T114729Z
UID:1975-1719129600-1719162000@shinkyokushin-gouken.com
SUMMARY:第14回三重中央支部錬成大会
DESCRIPTION:
URL:https://shinkyokushin-gouken.com/event/%e7%ac%ac14%e5%9b%9e%e4%b8%89%e9%87%8d%e4%b8%ad%e5%a4%ae%e6%94%af%e9%83%a8%e9%8c%ac%e6%88%90%e5%a4%a7%e4%bc%9a/
LOCATION:鈴鹿市武道館\, 江島台２丁目６−１\, 鈴鹿市\, 三重県\, 5101231\, 日本
CATEGORIES:錬成大会
END:VEVENT
BEGIN:VEVENT
DTSTART;TZID=Asia/Tokyo:20240616T080000
DTEND;TZID=Asia/Tokyo:20240616T170000
DTSTAMP:20260421T105647
CREATED:20240307T114553Z
LAST-MODIFIED:20240307T114553Z
UID:1971-1718524800-1718557200@shinkyokushin-gouken.com
SUMMARY:第2回東京都大会（DF2025第1次選抜）
DESCRIPTION:
URL:https://shinkyokushin-gouken.com/event/%e7%ac%ac2%e5%9b%9e%e6%9d%b1%e4%ba%ac%e9%83%bd%e5%a4%a7%e4%bc%9a%ef%bc%88df2025%e7%ac%ac1%e6%ac%a1%e9%81%b8%e6%8a%9c%ef%bc%89/
LOCATION:屋内球技場\,\, 駒沢公園１ 屋内球技場\, 世田谷区\, 東京都\, 日本
CATEGORIES:DF2025第1次選抜大会,県大会,選抜対象大会
END:VEVENT
BEGIN:VEVENT
DTSTART;TZID=Asia/Tokyo:20240602T080000
DTEND;TZID=Asia/Tokyo:20240602T170000
DTSTAMP:20260421T105647
CREATED:20240307T114321Z
LAST-MODIFIED:20240307T114321Z
UID:1968-1717315200-1717347600@shinkyokushin-gouken.com
SUMMARY:長野県錬成大会（DF2025第2次選抜）
DESCRIPTION:
URL:https://shinkyokushin-gouken.com/event/%e9%95%b7%e9%87%8e%e7%9c%8c%e9%8c%ac%e6%88%90%e5%a4%a7%e4%bc%9a%ef%bc%88df2025%e7%ac%ac2%e6%ac%a1%e9%81%b8%e6%8a%9c%ef%bc%89/
LOCATION:松本市 柔剣道場・弓道場\, 中央４丁目７−２８\, 松本市\, 長野県\, 日本
CATEGORIES:DF2025第2次選抜大会,選抜対象大会,錬成大会
END:VEVENT
BEGIN:VEVENT
DTSTART;TZID=Asia/Tokyo:20240421T080000
DTEND;TZID=Asia/Tokyo:20240421T170000
DTSTAMP:20260421T105647
CREATED:20240307T114020Z
LAST-MODIFIED:20240307T114020Z
UID:1963-1713686400-1713718800@shinkyokushin-gouken.com
SUMMARY:第37回ウエイト制福島県大会（DF2025第1次選抜）
DESCRIPTION:第37回オープントーナメント　ウエイト制福島県空手道選手権大会\n第32回福島県ジュニア空手道選手権大会
URL:https://shinkyokushin-gouken.com/event/%e7%ac%ac37%e5%9b%9e%e3%82%a6%e3%82%a8%e3%82%a4%e3%83%88%e5%88%b6%e7%a6%8f%e5%b3%b6%e7%9c%8c%e5%a4%a7%e4%bc%9a%ef%bc%88df2025%e7%ac%ac1%e6%ac%a1%e9%81%b8%e6%8a%9c%ef%bc%89/
LOCATION:郡山市西部第二体育館
CATEGORIES:DF2025第1次選抜大会,県大会
END:VEVENT
BEGIN:VEVENT
DTSTART;TZID=Asia/Tokyo:20240421T080000
DTEND;TZID=Asia/Tokyo:20240421T170000
DTSTAMP:20260421T105647
CREATED:20240307T111745Z
LAST-MODIFIED:20240307T114050Z
UID:1949-1713686400-1713718800@shinkyokushin-gouken.com
SUMMARY:全四国大会（DF2025第1次選抜）
DESCRIPTION:
URL:https://shinkyokushin-gouken.com/event/%e9%96%a2%e8%a5%bf%e5%9c%b0%e5%8c%ba%e7%a9%ba%e6%89%8b%e9%81%93%e9%8c%ac%e6%88%90%e5%a4%a7%e4%bc%9a/
LOCATION:くろしおアリーナ\, 五台山１７３６−１\, 高知市\, 高知県\, 781-8125\, 日本
CATEGORIES:DF2025第1次選抜大会,ブロック大会,選抜対象大会
END:VEVENT
BEGIN:VEVENT
DTSTART;TZID=Asia/Tokyo:20240317T080000
DTEND;TZID=Asia/Tokyo:20240317T170000
DTSTAMP:20260421T105647
CREATED:20240314T022816Z
LAST-MODIFIED:20240314T022816Z
UID:2020-1710662400-1710694800@shinkyokushin-gouken.com
SUMMARY:関西地区空手道錬成大会
DESCRIPTION:
URL:https://shinkyokushin-gouken.com/event/%e9%96%a2%e8%a5%bf%e5%9c%b0%e5%8c%ba%e7%a9%ba%e6%89%8b%e9%81%93%e9%8c%ac%e6%88%90%e5%a4%a7%e4%bc%9a-2/
LOCATION:京都市武道センター\, 左京区聖護院円頓美町４６−２\, 京都市\, 京都府\, 606-8323\, 日本
END:VEVENT
BEGIN:VEVENT
DTSTART;TZID=Asia/Tokyo:20240310T080000
DTEND;TZID=Asia/Tokyo:20240310T170000
DTSTAMP:20260421T105647
CREATED:20231130T104211Z
LAST-MODIFIED:20231130T104211Z
UID:1928-1710057600-1710090000@shinkyokushin-gouken.com
SUMMARY:第3回全日本青少年フルコンタクト空手道選手権大会(JFKO)
DESCRIPTION:
URL:https://shinkyokushin-gouken.com/event/%e7%ac%ac3%e5%9b%9e%e5%85%a8%e6%97%a5%e6%9c%ac%e9%9d%92%e5%b0%91%e5%b9%b4%e3%83%95%e3%83%ab%e3%82%b3%e3%83%b3%e3%82%bf%e3%82%af%e3%83%88%e7%a9%ba%e6%89%8b%e9%81%93%e9%81%b8%e6%89%8b%e6%a8%a9%e5%a4%a7/
LOCATION:国立代々木競技場 第一体育館\, 神南２丁目１−１\, 渋谷区\, 東京都\, 1500041
END:VEVENT
BEGIN:VEVENT
DTSTART;TZID=Asia/Tokyo:20240212T080000
DTEND;TZID=Asia/Tokyo:20240212T170000
DTSTAMP:20260421T105647
CREATED:20231130T103835Z
LAST-MODIFIED:20231130T103835Z
UID:1924-1707724800-1707757200@shinkyokushin-gouken.com
SUMMARY:第7回三重県フルコンタクト空手道大会、第13回三重県錬成大会
DESCRIPTION:
URL:https://shinkyokushin-gouken.com/event/%e7%ac%ac7%e5%9b%9e%e4%b8%89%e9%87%8d%e7%9c%8c%e3%83%95%e3%83%ab%e3%82%b3%e3%83%b3%e3%82%bf%e3%82%af%e3%83%88%e7%a9%ba%e6%89%8b%e9%81%93%e5%a4%a7%e4%bc%9a%e3%80%81%e7%ac%ac13%e5%9b%9e%e4%b8%89/
LOCATION:鈴鹿市武道館\, 江島台２丁目６−１\, 鈴鹿市\, 三重県\, 5101231\, 日本
END:VEVENT
BEGIN:VEVENT
DTSTART;TZID=Asia/Tokyo:20240114T080000
DTEND;TZID=Asia/Tokyo:20240114T170000
DTSTAMP:20260421T105647
CREATED:20231201T072447Z
LAST-MODIFIED:20231201T072447Z
UID:1933-1705219200-1705251600@shinkyokushin-gouken.com
SUMMARY:2024年 愛知空手道錬成大会
DESCRIPTION:
URL:https://shinkyokushin-gouken.com/event/2024%e5%b9%b4-%e6%84%9b%e7%9f%a5%e7%a9%ba%e6%89%8b%e9%81%93%e9%8c%ac%e6%88%90%e5%a4%a7%e4%bc%9a/
LOCATION:日本ガイシホール 第3競技場\, 南区東又兵ヱ町5丁目1番地の16\, 名古屋市\, 愛知県\, 4570833
END:VEVENT
BEGIN:VEVENT
DTSTART;TZID=Asia/Tokyo:20231210T090000
DTEND;TZID=Asia/Tokyo:20231210T180000
DTSTAMP:20260421T105647
CREATED:20231024T043448Z
LAST-MODIFIED:20231201T074056Z
UID:1898-1702198800-1702231200@shinkyokushin-gouken.com
SUMMARY:第5回岐阜県フルコンタクト空手道錬成大会
DESCRIPTION:
URL:https://shinkyokushin-gouken.com/event/%e7%ac%ac5%e5%9b%9e%e5%b2%90%e9%98%9c%e7%9c%8c%e3%83%95%e3%83%ab%e3%82%b3%e3%83%b3%e3%82%bf%e3%82%af%e3%83%88%e7%a9%ba%e6%89%8b%e9%81%93%e9%8c%ac%e6%88%90%e5%a4%a7%e4%bc%9a/
LOCATION:岐阜メモリアルセンター ふれ愛ドーム\, 福光大野２６７５−２８\, 岐阜市\, 岐阜県\, 日本
END:VEVENT
BEGIN:VEVENT
DTSTART;TZID=Asia/Tokyo:20231112T090000
DTEND;TZID=Asia/Tokyo:20231112T170000
DTSTAMP:20260421T105647
CREATED:20221228T140303Z
LAST-MODIFIED:20221229T060817Z
UID:1185-1699779600-1699808400@shinkyokushin-gouken.com
SUMMARY:第30回和歌山県空手道選手権大会
DESCRIPTION:
URL:https://shinkyokushin-gouken.com/event/%e7%ac%ac30%e5%9b%9e%e5%92%8c%e6%ad%8c%e5%b1%b1%e7%9c%8c%e7%a9%ba%e6%89%8b%e9%81%93%e9%81%b8%e6%89%8b%e6%a8%a9%e5%a4%a7%e4%bc%9a/
LOCATION:和歌山県立体育館\, 市中之島２２３８\, 和歌山\, 和歌山県\, 日本
CATEGORIES:県大会
END:VEVENT
BEGIN:VEVENT
DTSTART;TZID=Asia/Tokyo:20231009T090000
DTEND;TZID=Asia/Tokyo:20231009T170000
DTSTAMP:20260421T105647
CREATED:20221228T134427Z
LAST-MODIFIED:20230228T165602Z
UID:1153-1696842000-1696870800@shinkyokushin-gouken.com
SUMMARY:第19回愛知県空手道選手権大会
DESCRIPTION:
URL:https://shinkyokushin-gouken.com/event/%e7%ac%ac19%e5%9b%9e%e6%84%9b%e7%9f%a5%e7%9c%8c%e7%a9%ba%e6%89%8b%e9%81%93%e9%81%b8%e6%89%8b%e6%a8%a9%e5%a4%a7%e4%bc%9a/
LOCATION:愛知県武道館\, 港区丸池町１丁目１-４\, 名古屋市\, 日本
CATEGORIES:県大会
END:VEVENT
BEGIN:VEVENT
DTSTART;TZID=Asia/Tokyo:20230917T090000
DTEND;TZID=Asia/Tokyo:20230917T170000
DTSTAMP:20260421T105647
CREATED:20221228T135822Z
LAST-MODIFIED:20221229T060823Z
UID:1175-1694941200-1694970000@shinkyokushin-gouken.com
SUMMARY:第9回静岡県空手道選手権大会
DESCRIPTION:
URL:https://shinkyokushin-gouken.com/event/%e7%ac%ac9%e5%9b%9e%e9%9d%99%e5%b2%a1%e7%9c%8c%e7%a9%ba%e6%89%8b%e9%81%93%e9%81%b8%e6%89%8b%e6%a8%a9%e5%a4%a7%e4%bc%9a/
LOCATION:静岡県磐田市総合体育館
CATEGORIES:県大会
END:VEVENT
BEGIN:VEVENT
DTSTART;TZID=Asia/Tokyo:20230910T080000
DTEND;TZID=Asia/Tokyo:20230910T170000
DTSTAMP:20260421T105647
CREATED:20230718T073424Z
LAST-MODIFIED:20230718T073559Z
UID:1655-1694332800-1694365200@shinkyokushin-gouken.com
SUMMARY:第36回全関西空手道選手権大会
DESCRIPTION:
URL:https://shinkyokushin-gouken.com/event/%e7%ac%ac36%e5%9b%9e%e5%85%a8%e9%96%a2%e8%a5%bf%e7%a9%ba%e6%89%8b%e9%81%93%e9%81%b8%e6%89%8b%e6%a8%a9%e5%a4%a7%e4%bc%9a/
LOCATION:東和薬品RACTABドーム\, 三ツ島３丁目７−１６\, 門真市\, 大阪府\, 571-0015\, 日本
END:VEVENT
BEGIN:VEVENT
DTSTART;TZID=Asia/Tokyo:20230820T090000
DTEND;TZID=Asia/Tokyo:20230820T170000
DTSTAMP:20260421T105647
CREATED:20230718T072956Z
LAST-MODIFIED:20230718T072956Z
UID:1648-1692522000-1692550800@shinkyokushin-gouken.com
SUMMARY:第36回全九州空手道選手権大会
DESCRIPTION:
URL:https://shinkyokushin-gouken.com/event/%e7%ac%ac36%e5%9b%9e%e5%85%a8%e4%b9%9d%e5%b7%9e%e7%a9%ba%e6%89%8b%e9%81%93%e9%81%b8%e6%89%8b%e6%a8%a9%e5%a4%a7%e4%bc%9a/
LOCATION:福岡国際センター\, 博多区築港本町２−２\, 福岡市\, 福岡県\, 812-0021\, 日本
END:VEVENT
BEGIN:VEVENT
DTSTART;VALUE=DATE:20230806
DTEND;VALUE=DATE:20230807
DTSTAMP:20260421T105647
CREATED:20221228T141324Z
LAST-MODIFIED:20230306T045651Z
UID:1191-1691280000-1691366399@shinkyokushin-gouken.com
SUMMARY:第29回長野県空手道選手権大会
DESCRIPTION:
URL:https://shinkyokushin-gouken.com/event/%e7%ac%ac29%e5%9b%9e%e9%95%b7%e9%87%8e%e7%9c%8c%e7%a9%ba%e6%89%8b%e9%81%93%e9%81%b8%e6%89%8b%e6%a8%a9%e5%a4%a7%e4%bc%9a%e6%97%a5%e7%a8%8b%e6%9c%aa%e5%ae%9a/
LOCATION:松本市総合体育館\, 美須々５−１\, 松本市\, 長野県\, 日本
CATEGORIES:県大会
END:VEVENT
BEGIN:VEVENT
DTSTART;VALUE=DATE:20230729
DTEND;VALUE=DATE:20230730
DTSTAMP:20260421T105647
CREATED:20221228T140745Z
LAST-MODIFIED:20230306T045846Z
UID:1189-1690588800-1690675199@shinkyokushin-gouken.com
SUMMARY:第27回全関東空手道選手権大会
DESCRIPTION:
URL:https://shinkyokushin-gouken.com/event/%e7%ac%ac27%e5%9b%9e%e5%85%a8%e9%96%a2%e6%9d%b1%e7%a9%ba%e6%89%8b%e9%81%93%e9%81%b8%e6%89%8b%e6%a8%a9%e5%a4%a7%e4%bc%9a%e6%97%a5%e7%a8%8b%e6%9c%aa%e7%a2%ba%e5%ae%9a/
LOCATION:横浜武道館\, 中区翁町２丁目９−１０\, 横浜市\, 神奈川県\, 日本
CATEGORIES:ブロック大会
END:VEVENT
BEGIN:VEVENT
DTSTART;TZID=Asia/Tokyo:20230722T090000
DTEND;TZID=Asia/Tokyo:20230723T170000
DTSTAMP:20260421T105647
CREATED:20221228T070752Z
LAST-MODIFIED:20221231T100901Z
UID:1141-1690016400-1690131600@shinkyokushin-gouken.com
SUMMARY:カラテドリームフェスティバル2023
DESCRIPTION:
URL:https://shinkyokushin-gouken.com/event/%e3%82%ab%e3%83%a9%e3%83%86%e3%83%89%e3%83%aa%e3%83%bc%e3%83%a0%e3%83%95%e3%82%a7%e3%82%b9%e3%83%86%e3%82%a3%e3%83%90%e3%83%ab2023/
LOCATION:東京体育館\, 千駄ケ谷１丁目１７−１\, 渋谷区\, 東京都\, 日本
CATEGORIES:全国大会
END:VEVENT
BEGIN:VEVENT
DTSTART;TZID=Asia/Tokyo:20230618T090000
DTEND;TZID=Asia/Tokyo:20230618T170000
DTSTAMP:20260421T105647
CREATED:20221228T135251Z
LAST-MODIFIED:20221229T060729Z
UID:1162-1687078800-1687107600@shinkyokushin-gouken.com
SUMMARY:第30回全中部空手道選手権大会
DESCRIPTION:
URL:https://shinkyokushin-gouken.com/event/%e7%ac%ac30%e5%9b%9e%e5%85%a8%e4%b8%ad%e9%83%a8%e7%a9%ba%e6%89%8b%e9%81%93%e9%81%b8%e6%89%8b%e6%a8%a9%e5%a4%a7%e4%bc%9a/
LOCATION:AGF鈴鹿体育館\, 江島台一丁目1番1号\, 鈴鹿市\, 三重県\, 日本
CATEGORIES:ブロック大会
END:VEVENT
END:VCALENDAR