BEGIN:VCALENDAR
VERSION:2.0
PRODID:-//新極真会 愛知中央支部 西道場・名東道場 - ECPv6.15.20//NONSGML v1.0//EN
CALSCALE:GREGORIAN
METHOD:PUBLISH
X-ORIGINAL-URL:https://shinkyokushin-gouken.com
X-WR-CALDESC:新極真会 愛知中央支部 西道場・名東道場 のイベント
REFRESH-INTERVAL;VALUE=DURATION:PT1H
X-Robots-Tag:noindex
X-PUBLISHED-TTL:PT1H
BEGIN:VTIMEZONE
TZID:Asia/Tokyo
BEGIN:STANDARD
TZOFFSETFROM:+0900
TZOFFSETTO:+0900
TZNAME:JST
DTSTART:20250101T000000
END:STANDARD
END:VTIMEZONE
BEGIN:VEVENT
DTSTART;VALUE=DATE:20260308
DTEND;VALUE=DATE:20260309
DTSTAMP:20260420T073710
CREATED:20251226T025648Z
LAST-MODIFIED:20251226T025648Z
UID:2172-1772928000-1773014399@shinkyokushin-gouken.com
SUMMARY:第5回全日本青少年大会（ＪＦＫＯ）
DESCRIPTION:
URL:https://shinkyokushin-gouken.com/event/%e7%ac%ac5%e5%9b%9e%e5%85%a8%e6%97%a5%e6%9c%ac%e9%9d%92%e5%b0%91%e5%b9%b4%e5%a4%a7%e4%bc%9a%ef%bc%88%ef%bd%8a%ef%bd%86%ef%bd%8b%ef%bd%8f%ef%bc%89/
LOCATION:国立代々木競技場 第一体育館\, 神南２丁目１−１\, 渋谷区\, 東京都\, 1500041
CATEGORIES:全国大会
END:VEVENT
END:VCALENDAR